BEGIN:VCALENDAR
VERSION:2.0
PRODID:-//NTCOG Jamaica - ECPv6.8.3//NONSGML v1.0//EN
CALSCALE:GREGORIAN
METHOD:PUBLISH
X-ORIGINAL-URL:https://ntcogjamaica.org
X-WR-CALDESC:Events for NTCOG Jamaica
REFRESH-INTERVAL;VALUE=DURATION:PT1H
X-Robots-Tag:noindex
X-PUBLISHED-TTL:PT1H
BEGIN:VTIMEZONE
TZID:America/Jamaica
BEGIN:STANDARD
TZOFFSETFROM:-0500
TZOFFSETTO:-0500
TZNAME:EST
DTSTART:20240101T000000
END:STANDARD
END:VTIMEZONE
BEGIN:VEVENT
DTSTART;VALUE=DATE:20241218
DTEND;VALUE=DATE:20250106
DTSTAMP:20260419T173920
CREATED:20241210T151607Z
LAST-MODIFIED:20241210T151607Z
UID:1009-1734480000-1736121599@ntcogjamaica.org
SUMMARY:National Office Closes
DESCRIPTION:The National Office will be closed for the Chistmas holiday starting Dcemeber 18\, 2024 and re-opening on January 6\, 2025.
URL:https://ntcogjamaica.org/event/national-office-closes/
LOCATION:St. Catherine
ATTACH;FMTTYPE=image/png:/wp-content/uploads/2024/12/National-Office-Closed.png
END:VEVENT
BEGIN:VEVENT
DTSTART;VALUE=DATE:20241231
DTEND;VALUE=DATE:20250101
DTSTAMP:20260419T173920
CREATED:20241210T155928Z
LAST-MODIFIED:20241210T155928Z
UID:1024-1735603200-1735689599@ntcogjamaica.org
SUMMARY:Watchnight and Thanksgiving Services
DESCRIPTION:Join your local church for our Watchnight Service as we gather together to reflect on the year past and welcome the new year with faith\, gratitude\, and anticipation. Enjoy powerful worship\, inspiring messages\, and a time of prayer as we count down to a fresh start in the new year. Don’t miss this special moment of renewal and celebration!
URL:https://ntcogjamaica.org/event/watchnight-and-thanksgiving-services/
LOCATION:St. Catherine
CATEGORIES:Local Church
ATTACH;FMTTYPE=image/png:/wp-content/uploads/2024/12/Watchnight.png
END:VEVENT
END:VCALENDAR