BEGIN:VCALENDAR
VERSION:2.0
PRODID:-//NTCOG Jamaica - ECPv6.8.3//NONSGML v1.0//EN
CALSCALE:GREGORIAN
METHOD:PUBLISH
X-ORIGINAL-URL:https://ntcogjamaica.org
X-WR-CALDESC:Events for NTCOG Jamaica
REFRESH-INTERVAL;VALUE=DURATION:PT1H
X-Robots-Tag:noindex
X-PUBLISHED-TTL:PT1H
BEGIN:VTIMEZONE
TZID:America/Jamaica
BEGIN:STANDARD
TZOFFSETFROM:-0500
TZOFFSETTO:-0500
TZNAME:EST
DTSTART:20250101T000000
END:STANDARD
END:VTIMEZONE
BEGIN:VEVENT
DTSTART;VALUE=DATE:20250715
DTEND;VALUE=DATE:20250720
DTSTAMP:20260419T072614
CREATED:20250603T144804Z
LAST-MODIFIED:20250603T145536Z
UID:1534-1752537600-1752969599@ntcogjamaica.org
SUMMARY:National Children's Camp
DESCRIPTION:A fun-filled and faith-building experience designed just for kids! The National Children’s Camp combines exciting activities\, engaging Bible lessons\, music\, and fellowship to help young hearts grow in Christ while making lasting memories and friendships.
URL:https://ntcogjamaica.org/event/national-childrens-camp/
LOCATION:National Camp Site Golden Grove\, Ntcog Camp SITE\, 8V84+6G7\, Golden Grove\, St. Ann\, Jamaica
CATEGORIES:Camp
ATTACH;FMTTYPE=image/jpeg:/wp-content/uploads/2024/09/Upcoming-Events-NTCOG-scaled.jpg
END:VEVENT
END:VCALENDAR