BEGIN:VCALENDAR
VERSION:2.0
PRODID:-//NTCOG Jamaica - ECPv6.8.3//NONSGML v1.0//EN
CALSCALE:GREGORIAN
METHOD:PUBLISH
X-ORIGINAL-URL:https://ntcogjamaica.org
X-WR-CALDESC:Events for NTCOG Jamaica
REFRESH-INTERVAL;VALUE=DURATION:PT1H
X-Robots-Tag:noindex
X-PUBLISHED-TTL:PT1H
BEGIN:VTIMEZONE
TZID:America/Jamaica
BEGIN:STANDARD
TZOFFSETFROM:-0500
TZOFFSETTO:-0500
TZNAME:EST
DTSTART:20250101T000000
END:STANDARD
END:VTIMEZONE
BEGIN:VEVENT
DTSTART;VALUE=DATE:20250101
DTEND;VALUE=DATE:20250412
DTSTAMP:20260419T194544
CREATED:20241212T201407Z
LAST-MODIFIED:20250102T160643Z
UID:1436-1735689600-1744415999@ntcogjamaica.org
SUMMARY:100 Days of Prayer
DESCRIPTION:Kickstart your year with a powerful commitment to prayer! Join us for 100 Days of Prayer\, beginning January 1st. This season is a time to seek God’s guidance\, strength\, and wisdom for the year ahead. As we unite in prayer\, we will grow deeper in our faith and experience God’s transformative power. \nLet’s begin this new year with hearts set on prayer\, trusting that God will move mightily in our lives and in our community. \n“Pray without ceasing” – 1 Thessalonians 5:17
URL:https://ntcogjamaica.org/event/100-days-of-prayer/
LOCATION:St. Catherine
CATEGORIES:Centennial Celebrations
ATTACH;FMTTYPE=image/png:/wp-content/uploads/2024/12/100-days-of-prayer.png
END:VEVENT
BEGIN:VEVENT
DTSTART;VALUE=DATE:20250628
DTEND;VALUE=DATE:20250629
DTSTAMP:20260419T194544
CREATED:20250603T144014Z
LAST-MODIFIED:20250603T144014Z
UID:1530-1751068800-1751155199@ntcogjamaica.org
SUMMARY:Young Women's Empowerment Conference
DESCRIPTION:Join us for an inspiring day dedicated to empowering young women to lead with confidence and purpose. This conference features dynamic speakers\, interactive workshops\, and meaningful discussions designed to uplift\, educate\, and equip the next generation of female leaders.
URL:https://ntcogjamaica.org/event/young-womens-empowerment-conference/
LOCATION:St. Catherine
ATTACH;FMTTYPE=image/jpeg:/wp-content/uploads/2024/09/Upcoming-Events-NTCOG-scaled.jpg
END:VEVENT
BEGIN:VEVENT
DTSTART;VALUE=DATE:20250709
DTEND;VALUE=DATE:20250714
DTSTAMP:20260419T194544
CREATED:20250603T144444Z
LAST-MODIFIED:20250603T144444Z
UID:1532-1752019200-1752451199@ntcogjamaica.org
SUMMARY:National Convention
DESCRIPTION:This year’s National Convention spans five powerful days\, offering even more opportunities for spiritual growth and fellowship. Join us for a dynamic time of preaching\, prayer\, and worship through song as believers from across the nation gather to glorify God and be renewed in faith.
URL:https://ntcogjamaica.org/event/national-convention/
LOCATION:National Convention Center\, Rodons Pen\, Old Harbour\, St. Catherine\, Jamaica
ATTACH;FMTTYPE=image/jpeg:/wp-content/uploads/2024/09/Upcoming-Events-NTCOG-scaled.jpg
END:VEVENT
BEGIN:VEVENT
DTSTART;VALUE=DATE:20250715
DTEND;VALUE=DATE:20250720
DTSTAMP:20260419T194544
CREATED:20250603T144804Z
LAST-MODIFIED:20250603T145536Z
UID:1534-1752537600-1752969599@ntcogjamaica.org
SUMMARY:National Children's Camp
DESCRIPTION:A fun-filled and faith-building experience designed just for kids! The National Children’s Camp combines exciting activities\, engaging Bible lessons\, music\, and fellowship to help young hearts grow in Christ while making lasting memories and friendships.
URL:https://ntcogjamaica.org/event/national-childrens-camp/
LOCATION:National Camp Site Golden Grove\, Ntcog Camp SITE\, 8V84+6G7\, Golden Grove\, St. Ann\, Jamaica
CATEGORIES:Camp
ATTACH;FMTTYPE=image/jpeg:/wp-content/uploads/2024/09/Upcoming-Events-NTCOG-scaled.jpg
END:VEVENT
BEGIN:VEVENT
DTSTART;VALUE=DATE:20250719
DTEND;VALUE=DATE:20250720
DTSTAMP:20260419T194544
CREATED:20250603T150356Z
LAST-MODIFIED:20250603T150356Z
UID:1545-1752883200-1752969599@ntcogjamaica.org
SUMMARY:5k Run
DESCRIPTION:Join us as we celebrate 100 years of the New Testament Church of God in Jamaica with a special 5K Run! This community event promotes health\, unity\, and gratitude as we run together in honor of a century of faith\, impact\, and growth. All ages are welcome—walk\, jog\, or run with purpose!
URL:https://ntcogjamaica.org/event/5k-run/
LOCATION:UWI Mona\, University of the West Indies\, Kingston\, Kingston\, Jamaica
CATEGORIES:Centennial Celebrations
ATTACH;FMTTYPE=image/jpeg:/wp-content/uploads/2024/09/Upcoming-Events-NTCOG-scaled.jpg
END:VEVENT
BEGIN:VEVENT
DTSTART;VALUE=DATE:20250721
DTEND;VALUE=DATE:20250726
DTSTAMP:20260419T194544
CREATED:20250603T145157Z
LAST-MODIFIED:20250603T145515Z
UID:1536-1753056000-1753487999@ntcogjamaica.org
SUMMARY:National Teen’s Camp (Week 1)
DESCRIPTION:An unforgettable week tailored for teens to connect\, grow\, and thrive in their walk with Christ. Week 1 features powerful worship\, relevant teachings\, team-building activities\, and lots of fun—all in a safe and supportive environment where teens are encouraged to live boldly for God.
URL:https://ntcogjamaica.org/event/national-teens-camp-week-1/
LOCATION:National Camp Site Golden Grove\, Ntcog Camp SITE\, 8V84+6G7\, Golden Grove\, St. Ann\, Jamaica
CATEGORIES:Camp
ATTACH;FMTTYPE=image/jpeg:/wp-content/uploads/2024/09/Upcoming-Events-NTCOG-scaled.jpg
END:VEVENT
BEGIN:VEVENT
DTSTART;VALUE=DATE:20250728
DTEND;VALUE=DATE:20250802
DTSTAMP:20260419T194544
CREATED:20250603T145803Z
LAST-MODIFIED:20250603T145803Z
UID:1541-1753660800-1754092799@ntcogjamaica.org
SUMMARY:National Teen’s Camp (Week 2)
DESCRIPTION:A second exciting week of spiritual growth\, friendship\, and fun! Week 2 continues the Teen Camp experience with impactful sessions\, vibrant worship\, and engaging activities—all designed to help teens deepen their faith and build lasting connections in a Christ-centered community.
URL:https://ntcogjamaica.org/event/national-teens-camp-week-2/
LOCATION:National Camp Site Golden Grove\, Ntcog Camp SITE\, 8V84+6G7\, Golden Grove\, St. Ann\, Jamaica
CATEGORIES:Camp
ATTACH;FMTTYPE=image/jpeg:/wp-content/uploads/2024/09/Upcoming-Events-NTCOG-scaled.jpg
END:VEVENT
BEGIN:VEVENT
DTSTART;VALUE=DATE:20250807
DTEND;VALUE=DATE:20250810
DTSTAMP:20260419T194544
CREATED:20250603T145951Z
LAST-MODIFIED:20250603T145951Z
UID:1543-1754524800-1754783999@ntcogjamaica.org
SUMMARY:Youth Retreat
DESCRIPTION:A refreshing weekend getaway for young adults to reconnect with God and each other. This retreat offers meaningful worship\, thought-provoking sessions\, and real conversations in a relaxed atmosphere—designed to renew your spirit\, strengthen your faith\, and build lasting bonds.
URL:https://ntcogjamaica.org/event/youth-retreat/
LOCATION:National Camp Site Golden Grove\, Ntcog Camp SITE\, 8V84+6G7\, Golden Grove\, St. Ann\, Jamaica
CATEGORIES:Retreat
ATTACH;FMTTYPE=image/jpeg:/wp-content/uploads/2024/09/Upcoming-Events-NTCOG-scaled.jpg
END:VEVENT
BEGIN:VEVENT
DTSTART;VALUE=DATE:20251101
DTEND;VALUE=DATE:20251102
DTSTAMP:20260419T194544
CREATED:20250603T150820Z
LAST-MODIFIED:20250603T150820Z
UID:1548-1761955200-1762041599@ntcogjamaica.org
SUMMARY:Hallel Gospel Fest
DESCRIPTION:Celebrate with us the 100th year anniversary of the New Testament Church of God in Jamaica. Come and enjoy our various presenters and activities throughout the day in our musician and singers worshop and our worship concert in the evening.
URL:https://ntcogjamaica.org/event/hallel-gospel-fest/
LOCATION:National Convention Center\, Rodons Pen\, Old Harbour\, St. Catherine\, Jamaica
CATEGORIES:Centennial Celebrations
ATTACH;FMTTYPE=image/jpeg:/wp-content/uploads/2024/09/Upcoming-Events-NTCOG-scaled.jpg
ORGANIZER;CN="National Music & Worship Unit":MAILTO:ntcgmusicministry@gmail.com
END:VEVENT
END:VCALENDAR